BEGIN:VCALENDAR
VERSION:2.0
PRODID:-//CONCEAL CARRY TRAINING CLASSES WISCONSIN*NON-RESIDENT UTAH*FLORIDA Class - ECPv6.8.2.1//NONSGML v1.0//EN
CALSCALE:GREGORIAN
METHOD:PUBLISH
X-ORIGINAL-URL:https://concealcarrynow.com
X-WR-CALDESC:Events for CONCEAL CARRY TRAINING CLASSES WISCONSIN*NON-RESIDENT UTAH*FLORIDA Class
REFRESH-INTERVAL;VALUE=DURATION:PT1H
X-Robots-Tag:noindex
X-PUBLISHED-TTL:PT1H
BEGIN:VTIMEZONE
TZID:America/Chicago
BEGIN:DAYLIGHT
TZOFFSETFROM:-0600
TZOFFSETTO:-0500
TZNAME:CDT
DTSTART:20220313T080000
END:DAYLIGHT
BEGIN:STANDARD
TZOFFSETFROM:-0500
TZOFFSETTO:-0600
TZNAME:CST
DTSTART:20221106T070000
END:STANDARD
BEGIN:DAYLIGHT
TZOFFSETFROM:-0600
TZOFFSETTO:-0500
TZNAME:CDT
DTSTART:20230312T080000
END:DAYLIGHT
BEGIN:STANDARD
TZOFFSETFROM:-0500
TZOFFSETTO:-0600
TZNAME:CST
DTSTART:20231105T070000
END:STANDARD
END:VTIMEZONE
BEGIN:VEVENT
DTSTART;VALUE=DATE:20230922
DTEND;VALUE=DATE:20230924
DTSTAMP:20260420T104359
CREATED:20230621T194234Z
LAST-MODIFIED:20230712T205132Z
UID:10000458-1695340800-1695513599@concealcarrynow.com
SUMMARY:CIRCLE B RECREATION CENTER 6261 HWY. 60 - CEDARBURG\, WI
DESCRIPTION:Admission: $8.00\,  ALL VETERANS ARE FREE \nHours:   SEPTEMBER  22ND  – Friday: 3:00pm – 8:00pm \nSEPTEBMER 23RD – Saturday: 8:00am – 3:00pm \nContact: Thomas Hein \nPhone: (414) 430-7617 \nInterested in setting up a TABLE ? Please call or contact us. \nAll federal\, state and local firearm ordinances and laws must be obeyed.
URL:https://concealcarrynow.com/event/circle-b-recreation-center-6261-hwy-60-cedarburg-wi/
CATEGORIES:Gun Shows
ATTACH;FMTTYPE=image/jpeg:https://concealcarrynow.com/wp-content/uploads/2023/06/CEDARURG-922.jpg
ORGANIZER;CN="Freedom Firearms":MAILTO:concealcarrynow@gmail.com
END:VEVENT
BEGIN:VEVENT
DTSTART;VALUE=DATE:20230908
DTEND;VALUE=DATE:20230910
DTSTAMP:20260420T104359
CREATED:20230621T192734Z
LAST-MODIFIED:20230621T192734Z
UID:10000457-1694131200-1694303999@concealcarrynow.com
SUMMARY:VILLAGE BOWL N86W18330 MAIN STREET - MENOMONEE FALLS\, WI
DESCRIPTION:Admission: $8.00\,  ALL VETERANS ARE FREE \nHours:   SEPTEMBER 8TH  – Friday: 3:00pm – 8:00pm \nSEPTEBMER 9TH  – Saturday: 8:00am – 3:00pm \nContact: Thomas Hein \nPhone: (414) 430-7617 \nInterested in setting up a TABLE ? Please call or contact us. \nAll federal\, state and local firearm ordinances and laws must be obeyed.
URL:https://concealcarrynow.com/event/village-bowl-n86w18330-main-street-menomonee-falls-wi-3/
CATEGORIES:Gun Shows
ATTACH;FMTTYPE=image/jpeg:https://concealcarrynow.com/wp-content/uploads/2023/06/VILLAGE-BOWL-9-8.jpg
ORGANIZER;CN="Freedom Firearms":MAILTO:concealcarrynow@gmail.com
END:VEVENT
BEGIN:VEVENT
DTSTART;VALUE=DATE:20230825
DTEND;VALUE=DATE:20230827
DTSTAMP:20260420T104359
CREATED:20230518T193436Z
LAST-MODIFIED:20230712T164752Z
UID:10000445-1692921600-1693094399@concealcarrynow.com
SUMMARY:DOUSMAN COMMUNITY CENTER 235 N. MAIN STREET - DOUSMAN\, WI
DESCRIPTION:Admission: $8.00\,  ALL VETERANS ARE FREE \nHours:   AUGUST 25TH – Friday: 3:00pm – 8:00pm \nAUGUST 26ST – Saturday: 8:00am – 3:00pm \nContact: Thomas Hein \nPhone: (414) 430-7617 \nInterested in setting up a TABLE ? Please call or contact us. \nAll federal\, state and local firearm ordinances and laws must be obeyed.
URL:https://concealcarrynow.com/event/dousman-community-center-235-n-main-street-dousman-wi-4/
CATEGORIES:Gun Shows
ATTACH;FMTTYPE=image/jpeg:https://concealcarrynow.com/wp-content/uploads/2023/05/DOUSMAN-8-25.jpg
ORGANIZER;CN="Freedom Firearms":MAILTO:concealcarrynow@gmail.com
END:VEVENT
BEGIN:VEVENT
DTSTART;TZID=America/Chicago:20230719T080000
DTEND;TZID=America/Chicago:20230719T170000
DTSTAMP:20260420T104359
CREATED:20230719T211638Z
LAST-MODIFIED:20230719T211638Z
UID:10000469-1689753600-1689786000@concealcarrynow.com
SUMMARY:RIVER CITY LANES 730 CORNERSTONE CROSSING - WATERFORD\, WI
DESCRIPTION:ADMISSION: $8.00  ** ALL VETERANS ARE FREE ** \nHOURS: FRIDAY OCTOBER 20TH    3:00PM – 8:00PM * \n SATURDAY OCTOBER 21ST   8:00AM – 3:00PM \nCONTACT: TOM HEIN  \nPhone: (414) 430-7617 \nHELD AT RIVER CITY LANES 730 CORNERSTONE CROSSING – WATERFORD\, WI \nHOSTED BY FREEDOM FIREARMS LLC. \nVENDORS INTERESTED IN TABLES. PLEASE CALL  TOM 414-430-7617 \nALL ATF REULATIONS CURRENT AT THE TIME WILL BE APPLIED AND ENFORCED.
URL:https://concealcarrynow.com/event/river-city-lanes-730-cornerstone-crossing-waterford-wi-2/
CATEGORIES:Gun Shows
ATTACH;FMTTYPE=image/jpeg:https://concealcarrynow.com/wp-content/uploads/2023/07/RIVERCITY-GS-10-20.jpg
ORGANIZER;CN="Freedom Firearms":MAILTO:concealcarrynow@gmail.com
END:VEVENT
BEGIN:VEVENT
DTSTART;VALUE=DATE:20230519
DTEND;VALUE=DATE:20230521
DTSTAMP:20260420T104359
CREATED:20230228T212749Z
LAST-MODIFIED:20230517T113512Z
UID:10000419-1684454400-1684627199@concealcarrynow.com
SUMMARY:TURNER HALL 301 SOUTH 4TH STREET - WATERTOWN\, WI
DESCRIPTION:Admission: $8.00\,  ALL VETERANS ARE FREE \nHours:   MAY 19TH – Friday: 3:00pm – 8:00pm \nMAY 20TH – Saturday: 8:00am – 3:00pm \nContact: Thomas Hein \nPhone: (414) 430-7617 \nInterested in setting up a TABLE ? Please call or contact us. \nAll federal\, state and local firearm ordinances and laws must be obeyed.
URL:https://concealcarrynow.com/event/turner-hall-301-south-4th-street-watertown-wi/
CATEGORIES:Gun Shows
ATTACH;FMTTYPE=image/jpeg:https://concealcarrynow.com/wp-content/uploads/2023/02/TURNER-5-19.jpg
ORGANIZER;CN="Freedom Firearms":MAILTO:concealcarrynow@gmail.com
END:VEVENT
BEGIN:VEVENT
DTSTART;VALUE=DATE:20230512
DTEND;VALUE=DATE:20230514
DTSTAMP:20260420T104359
CREATED:20230126T210605Z
LAST-MODIFIED:20230126T210625Z
UID:10000400-1683849600-1684022399@concealcarrynow.com
SUMMARY:MUKWONAGO FIELD PARK ROCHESTER STREET & COUNTY RD NN - MUKWONAGO
DESCRIPTION:Admission: $8.00\,  ALL VETERANS ARE FREE \nHours:   MAY 12TH – Friday: 3:00pm – 8:00pm \nMAY 13TH – Saturday: 8:00am – 3:00pm \nContact: Thomas Hein \nPhone: (414) 430-7617 \nInterested in setting up a TABLE ? Please call or contact us. \nAll federal\, state and local firearm ordinances and laws must be obeyed.
URL:https://concealcarrynow.com/event/mukwonago-field-park-rochester-street-county-rd-nnm-mukwonago/
LOCATION:Mukwonago Field Park\, ROCHESTER STREET & COUNTY RD NN\, MUKWONAGO\, WI\, WI\, 53114\, United States
CATEGORIES:Gun Shows
ATTACH;FMTTYPE=image/jpeg:https://concealcarrynow.com/wp-content/uploads/2023/01/MUK-5-12-GS.jpg
ORGANIZER;CN="Freedom Firearms":MAILTO:concealcarrynow@gmail.com
END:VEVENT
BEGIN:VEVENT
DTSTART;VALUE=DATE:20230505
DTEND;VALUE=DATE:20230507
DTSTAMP:20260420T104359
CREATED:20230303T160344Z
LAST-MODIFIED:20230303T160344Z
UID:10000426-1683244800-1683417599@concealcarrynow.com
SUMMARY:DODGE COUNTY FAIRGROUNDS HWY. 33 - BEAVER DAM. WI
DESCRIPTION:Admission: $8.00\,  ALL VETERANS ARE FREE \nHours:   MAY 5TH – Friday: 3:00pm – 8:00pm \nMAY 6TH – Saturday: 8:00am – 3:00pm \nContact: Thomas Hein \nPhone: (414) 430-7617 \nInterested in setting up a TABLE ? Please call or contact us. \nAll federal\, state and local firearm ordinances and laws must be obeyed.
URL:https://concealcarrynow.com/event/dodge-county-fairgrounds-hwy-33-beaver-dam-wi-3/
LOCATION:Dodge County Fairgrounds\, HWY. 33\, BEAVER DAM\, WI\, 53916\, United States
CATEGORIES:Gun Shows
ATTACH;FMTTYPE=image/jpeg:https://concealcarrynow.com/wp-content/uploads/2023/03/DODGE-5-5-GS.jpg
ORGANIZER;CN="Freedom Firearms":MAILTO:concealcarrynow@gmail.com
END:VEVENT
BEGIN:VEVENT
DTSTART;VALUE=DATE:20230428
DTEND;VALUE=DATE:20230430
DTSTAMP:20260420T104359
CREATED:20230126T221131Z
LAST-MODIFIED:20230131T143908Z
UID:10000402-1682640000-1682812799@concealcarrynow.com
SUMMARY:KETTLE MORAINE RANCH W379S9674 COUNTY RD. S - EAGLE\, WI 53119
DESCRIPTION:Admission: $8.00\,  ALL VETERANS ARE FREE \nHours:   APRIL 28TH  – Friday: 3:00pm – 8:00pm \nAPRIL 29TH – Saturday: 8:00am – 3:00pm \nContact: Thomas Hein \nPhone: (414) 430-7617 \nInterested in setting up a TABLE ? Please call or contact us. \nAll federal\, state and local firearm ordinances and laws must be obeyed.
URL:https://concealcarrynow.com/event/kettle-moraine-ranch-w379s9674-county-rd-s-eagle-wi-53119/
LOCATION:KETTLE MORAINE RANCH\, W379S9674 CI=OUNTY RD S\, EAGLE\, WI\, 53119\, United States
CATEGORIES:Gun Shows
ATTACH;FMTTYPE=image/jpeg:https://concealcarrynow.com/wp-content/uploads/2023/01/KETTLE-28.jpg
ORGANIZER;CN="Freedom Firearms":MAILTO:concealcarrynow@gmail.com
END:VEVENT
BEGIN:VEVENT
DTSTART;VALUE=DATE:20230421
DTEND;VALUE=DATE:20230423
DTSTAMP:20260420T104359
CREATED:20230303T171754Z
LAST-MODIFIED:20230303T171754Z
UID:10000427-1682035200-1682207999@concealcarrynow.com
SUMMARY:COUNTY LINE HALL 103 200TH AVE. (JUST SOUTH OF UNION GROVE ON HWY. 45) - UNION GROVE
DESCRIPTION:Admission: $8.00\,  ALL VETERANS ARE FREE \nHours:   APRIL 21  – Friday: 3:00pm – 8:00pm \nAPRIL 22  – Saturday: 8:00am – 3:00pm \nContact: Thomas Hein \nPhone: (414) 430-7617 \nInterested in setting up a TABLE ? Please call or contact us. \nAll federal\, state and local firearm ordinances and laws must be obeyed.
URL:https://concealcarrynow.com/event/county-line-hall-103-200th-ave-just-south-of-union-grove-on-hwy-45-union-grove/
CATEGORIES:Gun Shows
ATTACH;FMTTYPE=image/jpeg:https://concealcarrynow.com/wp-content/uploads/2023/03/COUNTYLINE-4-21-23.jpg
END:VEVENT
BEGIN:VEVENT
DTSTART;VALUE=DATE:20230407
DTEND;VALUE=DATE:20230409
DTSTAMP:20260420T104359
CREATED:20230128T191817Z
LAST-MODIFIED:20230228T160552Z
UID:10000404-1680825600-1680998399@concealcarrynow.com
SUMMARY:CIRCLE B RECREATION CENTER 6261 HWY. 6O - CEDARBURG\, WI
DESCRIPTION:Admission: $8.00\,  ALL VETERANS ARE FREE \nHours:   APRIL 7TH  – Friday: 3:00pm – 8:00pm \nAPRIL 8TH – Saturday: 8:00am – 3:00pm \nContact: Thomas Hein \nPhone: (414) 430-7617 \nInterested in setting up a TABLE ? Please call or contact us. \nAll federal\, state and local firearm ordinances and laws must be obeyed.
URL:https://concealcarrynow.com/event/circle-b-recreation-center-6261-hwy-6o-cedarburg-wi/
LOCATION:CIRCLE B RECREATION CENTER\, 6261 HWY. 60\, CEDARBURG\, WI\, 53012\, United States
CATEGORIES:Gun Shows
ATTACH;FMTTYPE=image/jpeg:https://concealcarrynow.com/wp-content/uploads/2023/01/CEDARBURG-GS-4-7.jpg
ORGANIZER;CN="Freedom Firearms":MAILTO:concealcarrynow@gmail.com
END:VEVENT
BEGIN:VEVENT
DTSTART;VALUE=DATE:20230331
DTEND;VALUE=DATE:20230402
DTSTAMP:20260420T104359
CREATED:20230113T153119Z
LAST-MODIFIED:20230330T234139Z
UID:10000394-1680220800-1680393599@concealcarrynow.com
SUMMARY:MARCH 30 - APRIL 1ST STILL HAPPENING DOUSMAN COMMUNITY CENTER 235 N. MAIN STREET - DOUSMAN\, WI
DESCRIPTION:Admission: $8.00 * ALL VETERANS ARE FREE \nHours:   MARCH 31ST – Friday: 3:00pm – 8:00pm \nAPRIL 1ST  – Saturday: 8:00am – 3:00pm \nContact: Thomas Hein \nPhone: (414) 430-7617 \nInterested in setting up a TABLE ? Please call or contact us. \nAll federal\, state and local firearm ordinances and laws must be obeyed.
URL:https://concealcarrynow.com/event/dousman-community-center-235-n-main-street-dousman-wi-2/
CATEGORIES:Gun Shows
ATTACH;FMTTYPE=image/jpeg:https://concealcarrynow.com/wp-content/uploads/2023/01/DOUSMAN-3-31.jpg
ORGANIZER;CN="Freedom Firearms":MAILTO:concealcarrynow@gmail.com
END:VEVENT
BEGIN:VEVENT
DTSTART;VALUE=DATE:20230324
DTEND;VALUE=DATE:20230326
DTSTAMP:20260420T104359
CREATED:20230120T170804Z
LAST-MODIFIED:20230325T140744Z
UID:10000398-1679616000-1679788799@concealcarrynow.com
SUMMARY:GUN SHOW IS HAPPENING - DRIVE SAFELY - VILLAGE BOWL N86W18330 MAIN STREET - MENOMONEE FALLS\, WI
DESCRIPTION:Admission: $8.00\,  ALL VETERANS ARE FREE \nHours:   MARCH 24TH  – Friday: 3:00pm – 8:00pm \nMARCH 25TH  – Saturday: 8:00am – 3:00pm \nContact: Thomas Hein \nPhone: (414) 430-7617 \nInterested in setting up a TABLE ? Please call or contact us. \nAll federal\, state and local firearm ordinances and laws must be obeyed.
URL:https://concealcarrynow.com/event/village-bowl-n86w18330-main-street-menomonee-falls-wi-2/
LOCATION:VILLAGE BOWL MENOMONEE FALLS\, WI\, N86W18330 MAIN STREET\, MENOMONEE FALLS\, WI\, 53051\, United States
CATEGORIES:Gun Shows
ATTACH;FMTTYPE=image/jpeg:https://concealcarrynow.com/wp-content/uploads/2023/01/VILLAGE-BOWLN-3-24.jpg
ORGANIZER;CN="Freedom Firearms":MAILTO:concealcarrynow@gmail.com
END:VEVENT
BEGIN:VEVENT
DTSTART;VALUE=DATE:20230303
DTEND;VALUE=DATE:20230305
DTSTAMP:20260420T104359
CREATED:20230211T191502Z
LAST-MODIFIED:20230211T193109Z
UID:10000408-1677801600-1677974399@concealcarrynow.com
SUMMARY:BUZDUMS DRUNKEN DUCK 3706 COUNTY RD. P - RUBICON\, WI
DESCRIPTION:Admission: $8.00\,  ALL VETERANS ARE FREE \nHours:   MARCH 3RD  – Friday: 3:00pm – 8:00pm \nMARCH 4TH – Saturday: 8:00am – 3:00pm \nContact: Thomas Hein \nPhone: (414) 430-7617 \nInterested in setting up a TABLE ? Please call or contact us. \nAll federal\, state and local firearm ordinances and laws must be obeyed.
URL:https://concealcarrynow.com/event/buzdums-drunken-duck-3706-county-rd-p-rubicon-wi/
LOCATION:BUZDUMS DRUNKEN DUCK\, 3706 CTY. RD. P\, RUBICON\, WI\, 53078\, United States
CATEGORIES:Gun Shows
ATTACH;FMTTYPE=image/jpeg:https://concealcarrynow.com/wp-content/uploads/2023/02/DRUNKEN-DUCK-GS-3-4-1.jpg
ORGANIZER;CN="Freedom Firearms":MAILTO:concealcarrynow@gmail.com
END:VEVENT
BEGIN:VEVENT
DTSTART;VALUE=DATE:20230224
DTEND;VALUE=DATE:20230226
DTSTAMP:20260420T104359
CREATED:20221213T220634Z
LAST-MODIFIED:20221213T235923Z
UID:10000378-1677196800-1677369599@concealcarrynow.com
SUMMARY:RED BARN 7530 COUNTY RD M  - EVANSVILLE\, WI
DESCRIPTION:Admission: $8.00\,  ALL VETERANS ARE FREE \nHours:   FEBRUARY 24 – Friday: 3:00pm – 8:00pm \nFEBRUARY 25TH – Saturday: 8:00am – 3:00pm \nContact: Thomas Hein \nPhone: (414) 430-7617 \nInterested in setting up a TABLE ? Please call or contact us. \nAll federal\, state and local firearm ordinances and laws must be obeyed.
URL:https://concealcarrynow.com/event/red-barn-7530-county-rd-m-evansville-wi/
CATEGORIES:Gun Shows
ATTACH;FMTTYPE=image/jpeg:https://concealcarrynow.com/wp-content/uploads/2022/12/REDBARN2.jpeg
ORGANIZER;CN="Freedom Firearms":MAILTO:concealcarrynow@gmail.com
END:VEVENT
BEGIN:VEVENT
DTSTART;VALUE=DATE:20230217
DTEND;VALUE=DATE:20230219
DTSTAMP:20260420T104359
CREATED:20221208T204135Z
LAST-MODIFIED:20221208T204135Z
UID:10000375-1676592000-1676764799@concealcarrynow.com
SUMMARY:STERLING CHALET 1271 W-175 - HUBERTUS\, WI
DESCRIPTION:Admission: $8.00\,  ALL VETERANS ARE FREE \nHours:   FEBRUARY 17TH – Friday: 3:00pm – 8:00pm \nFEBRUARY 18TH – Saturday: 8:00am – 3:00pm \nContact: Thomas Hein \nPhone: (414) 430-7617 \nInterested in setting up a TABLE ? Please call or contact us. \nAll federal\, state and local firearm ordinances and laws must be obeyed.
URL:https://concealcarrynow.com/event/sterling-chalet-1271-w-175-hubertus-wi-2/
CATEGORIES:Gun Shows
ATTACH;FMTTYPE=image/jpeg:https://concealcarrynow.com/wp-content/uploads/2022/12/HUBERTUS-GS-2-17.jpg
ORGANIZER;CN="Freedom Firearms":MAILTO:concealcarrynow@gmail.com
END:VEVENT
BEGIN:VEVENT
DTSTART;VALUE=DATE:20230204
DTEND;VALUE=DATE:20230206
DTSTAMP:20260420T104359
CREATED:20221213T210328Z
LAST-MODIFIED:20230203T184359Z
UID:10000377-1675468800-1675641599@concealcarrynow.com
SUMMARY:CLIFFORD'S SUPPER CLUB 10418 W. FOREST HOME AVE. - HALES CORNERS\, WI
DESCRIPTION:Admission: $8.00\,  ALL VETERANS ARE FREE \nHours:   FEBRUARY 4TH = SATURDAY 9AM – 8PM \nFEBRUARY 5TH – SUNDAY 8AM – 3PM \nContact: Thomas Hein \nPhone: (414) 430-7617 \nInterested in setting up a TABLE ? Please call or contact us. \nAll federal\, state and local firearm ordinances and laws must be obey
URL:https://concealcarrynow.com/event/cliffords-supper-club-10418-w-forest-home-ave-hales-corners-wi/
CATEGORIES:Gun Shows
ATTACH;FMTTYPE=image/jpeg:https://concealcarrynow.com/wp-content/uploads/2022/12/CLIFF.jpg
ORGANIZER;CN="Freedom Firearms":MAILTO:concealcarrynow@gmail.com
END:VEVENT
BEGIN:VEVENT
DTSTART;VALUE=DATE:20230127
DTEND;VALUE=DATE:20230129
DTSTAMP:20260420T104400
CREATED:20220406T153846Z
LAST-MODIFIED:20220601T203347Z
UID:10000260-1674777600-1674950399@concealcarrynow.com
SUMMARY:ROCK COUNTY FAIRGROUNDS 1301 CRAIG AVE. - JANESVILLE
DESCRIPTION:Admission: $8.00\,  ALL VETERANS ARE FREE \nHours: JANUARY 27TH – Friday: 3:00pm – 8:00pm \nJANUARY 28TH – Saturday: 8:00am – 3:00pm \nContact: Thomas Hein \nPhone: (414) 430-7617 \nThe Rock County Gun Show will be held on Jan 27th-28th\, 2023 in Janesville\, WI. This Rock County gun show is held at Rock County Fairgrounds  1301 CRAIG AVE. – JANESVILLE\, WIand hosted by Freedom Firearms. \nInterested in setting up a TABLE ? Please call or contact us. \nAll federal\, state and local firearm ordinances and laws must be obeyed.
URL:https://concealcarrynow.com/event/rock-county-gun-show/
LOCATION:Rock County Fairgrounds\, 1301 Craig Ave\, Janesville\, WI\, 53545\, United States
CATEGORIES:Gun Shows
ORGANIZER;CN="Freedom Firearms":MAILTO:concealcarrynow@gmail.com
END:VEVENT
BEGIN:VEVENT
DTSTART;VALUE=DATE:20230120
DTEND;VALUE=DATE:20230122
DTSTAMP:20260420T104400
CREATED:20221103T181500Z
LAST-MODIFIED:20221114T133509Z
UID:10000365-1674172800-1674345599@concealcarrynow.com
SUMMARY:BUENA VISTA BANQUET HALL 7507 W. OKLAHOMA - MILWAUKEE\, WI
DESCRIPTION:ADMISSION: $8.00  ** ALL VETERANS ARE FREE ** \nHOURS: FRIDAY JANUARY 20TH   3:00PM – 8:00PM * \n SATURDAY JANUARY 21ST   8:00AM – 3:00PM \nCONTACT: TOM HEIN  \nPhone: (414) 430-7617 = TOM or 715-460-4454 = TROY \nHELD AT BUENA VISTA BANQUET HALL 7507 W. OLKAHOMA AVE. – MILWAUKEE\, WI \nHOSTED BY FREEDOM FIREARMS LLC. \nVENDORS INTERESTED IN TABLES. PLEASE TEXT  TOM 414-430-7617 OR TROY 715-460-4454 WITH NAME – WHICH EVENT – WHAT YOU SELL – & HOW MANY TABLES YOU ARE REQUESTING \nALL ATF REGULATIONS CURRENT AT THE TIME WILL BE APPLIED AND ENFORCED.
URL:https://concealcarrynow.com/event/buena-vista-banquet-hall-7507-w-oklahoma-milwaukee-wi-2/
CATEGORIES:Gun Shows
ATTACH;FMTTYPE=image/jpeg:https://concealcarrynow.com/wp-content/uploads/2022/11/BUENA-GS-1-20.jpg
ORGANIZER;CN="Freedom Firearms":MAILTO:concealcarrynow@gmail.com
END:VEVENT
BEGIN:VEVENT
DTSTART;VALUE=DATE:20230113
DTEND;VALUE=DATE:20230115
DTSTAMP:20260420T104400
CREATED:20221123T190953Z
LAST-MODIFIED:20221123T190953Z
UID:10000370-1673568000-1673740799@concealcarrynow.com
SUMMARY:BRAT STOP/PARKWAY CHATEAU 12304 75TH STREET - KENOSHA\, WI
DESCRIPTION:ADMISSION: $8.00  ** ALL VETERANS ARE FREE ** \nHOURS: FRIDAY JAUARY 13TH   3:00PM – 8:00PM * \n SATURDAY JANUARY 14TH   8:00AM – 3:00PM \nCONTACT: TOM HEIN  \nPhone: (414) 430-7617 \nHELD AT BRAT STOP/PARKWAY CHATEAU – 12304 75TH STREET – KENOSHA\, WI \nHOSTED BY FREEDOM FIREARMS LLC. \nVENDORS INTERESTED IN TABLES. PLEASE CALL  TOM 414-430-7617 \nALL ATF REULATIONS CURRENT AT THE TIME WILL BE APPLIED AND ENFORCED.
URL:https://concealcarrynow.com/event/brat-stop-parkway-chateau-12304-75th-street-kenosha-wi/
CATEGORIES:Gun Shows
ATTACH;FMTTYPE=image/jpeg:https://concealcarrynow.com/wp-content/uploads/2022/11/BRAT-GS.jpg
ORGANIZER;CN="Freedom Firearms":MAILTO:concealcarrynow@gmail.com
END:VEVENT
BEGIN:VEVENT
DTSTART;VALUE=DATE:20221216
DTEND;VALUE=DATE:20221218
DTSTAMP:20260420T104400
CREATED:20221012T231315Z
LAST-MODIFIED:20221012T231315Z
UID:10000348-1671148800-1671321599@concealcarrynow.com
SUMMARY:FOUNTAIN BANQUET HALL - 8505 DURAND AVE. - STURTEVANT\, WI
DESCRIPTION:GENERAL ADMISSION: $8.00  \n ** ALL VETERANS ARE FREE ** \nFRIDAY = DECEMBER 16TH  3:00PM – 8:00PM *  \nSATURDAY = DECEMBER 17TH  8:00AM – 3:00PM \nCONTACT: TEXT TOM HEIN 414-430-7617  \nPhone: (414) 430-7617 \nHELD AT FOUNTAIN BANQUET HALL 8505 DURAND AVE. – STURTEVANT\, WI. \nHOSTED BY FREEDOM FIREARMS LLC. \n                                                                       *SPECIAL ON VENDOR TABLES 3 FOR $50.00* \nVENDORS INTERESTED IN TABLES. PLEASE CALL  TOM 414-430-7617 \nALL ATF REULATIONS CURRENT AT THE TIME WILL BE APPLIED AND ENFORCED.
URL:https://concealcarrynow.com/event/fountain-banquet-hall-8505-durand-ave-sturtevant-wi/
CATEGORIES:Gun Shows
ATTACH;FMTTYPE=image/jpeg:https://concealcarrynow.com/wp-content/uploads/2022/10/FOUNTAIN12-163.jpg
END:VEVENT
BEGIN:VEVENT
DTSTART;VALUE=DATE:20221202
DTEND;VALUE=DATE:20221204
DTSTAMP:20260420T104400
CREATED:20220608T213258Z
LAST-MODIFIED:20220616T151227Z
UID:10000287-1669939200-1670111999@concealcarrynow.com
SUMMARY:ROOT RIVER LANES 7220 W. RAWSON AVE. - FRANKLIN\, WI
DESCRIPTION:ADMISSION: $8.00  ** ALL VETERANS ARE FREE ** \nHOURS: DECEMBER 2ND FRIDAY 3:00PM – 8:00PM *  \nDECEMBER 3RD SATURDAY = 8:00AM – 3:00PM \nCONTACT: TOM HEIN  \nPhone: (414) 430-7617 or 414-333-4500 \nHELD AT ROOT RIVER LANES 7220 W. RAWSON AVE. – FRANKLIN\, WI  \nHOSTED BY FREEDOM FIREARMS LLC. \nVENDORS INTERESTED IN TABLES. PLEASE CALL  TOM 414-430-7617 or 414-333-4500 \nALL ATF REULATIONS CURRENT AT THE TIME WILL BE APPLIED AND ENFORCED.
URL:https://concealcarrynow.com/event/root-river-lanes-7220-w-rawson-ave-franklin-wi/
CATEGORIES:Gun Shows
ATTACH;FMTTYPE=image/jpeg:https://concealcarrynow.com/wp-content/uploads/2022/06/ROOTRIVER-DEC.jpg
ORGANIZER;CN="Freedom Firearms":MAILTO:concealcarrynow@gmail.com
END:VEVENT
BEGIN:VEVENT
DTSTART;VALUE=DATE:20221028
DTEND;VALUE=DATE:20221030
DTSTAMP:20260420T104400
CREATED:20220608T205328Z
LAST-MODIFIED:20220608T205613Z
UID:10000286-1666915200-1667087999@concealcarrynow.com
SUMMARY:COUNTY LINE HALL 103 200TH AVE. - UNION GROVE\, WI
DESCRIPTION:ADMISSION: $8.00  ** ALL VETERANS ARE FREE ** \nHOURS: FRIDAY OCTOBER 28TH = 3:00PM – 8:00PM * \n SATURDAY  OCTOBER 29TH = 8:00AM – 3:00PM \nCONTACT: TOM HEIN  \nPhone: (414) 430-7617 OR 414-333-4500 \nHELD AT COUNTY LINE HALL 103 200TH AVE. (HWY 45 JUST SOUTH OF UNION GROVE) \nHOSTED BY FREEDOM FIREARMS LLC. \nVENDORS INTERESTED IN TABLES. PLEASE CALL  TOM 414-430-7617 or 414-333-4500 \nALL ATF REULATIONS CURRENT AT THE TIME WILL BE APPLIED AND ENFORCED.
URL:https://concealcarrynow.com/event/county-line-hall-103-200th-ave-union-grove/
CATEGORIES:Gun Shows
ATTACH;FMTTYPE=image/jpeg:https://concealcarrynow.com/wp-content/uploads/2022/06/UNION10-27.jpg
ORGANIZER;CN="Freedom Firearms":MAILTO:concealcarrynow@gmail.com
END:VEVENT
BEGIN:VEVENT
DTSTART;VALUE=DATE:20221021
DTEND;VALUE=DATE:20221023
DTSTAMP:20260420T104400
CREATED:20220608T202536Z
LAST-MODIFIED:20220608T213545Z
UID:10000285-1666310400-1666483199@concealcarrynow.com
SUMMARY:VILLAGE BOWL N86W18330 MAIN ST. - MENOMONEE FALLS
DESCRIPTION:ADMISSION: $8.00  ** ALL VETERANS ARE FREE ** \nHOURS: FRIDAY OCTOBER 21 = 3:00PM – 8:00PM * \n SATURDAY  OCTOBER 22 = 8:00AM – 3:00PM \nCONTACT: TOM HEIN  \nPhone: (414) 430-7617 or 414-333-4500 \nHELD AT THE VILLAGE BOWL N86W18330 MIN STREET – MENOMONEE FALLS\, WI \nHOSTED BY FREEDOM FIREARMS LLC. \nVENDORS INTERESTED IN TABLES. PLEASE CALL  TOM 414-430-7617 \nALL ATF REULATIONS CURRENT AT THE TIME WILL BE APPLIED AND ENFORCED.
URL:https://concealcarrynow.com/event/village-bowl-n86w18330-main-st-menomonee-falls-2/
CATEGORIES:Gun Shows
ATTACH;FMTTYPE=image/jpeg:https://concealcarrynow.com/wp-content/uploads/2022/06/VILLAGEBOWL10-21.jpg
ORGANIZER;CN="Freedom Firearms":MAILTO:concealcarrynow@gmail.com
END:VEVENT
BEGIN:VEVENT
DTSTART;VALUE=DATE:20221014
DTEND;VALUE=DATE:20221016
DTSTAMP:20260420T104400
CREATED:20220506T182055Z
LAST-MODIFIED:20220520T113711Z
UID:10000272-1665705600-1665878399@concealcarrynow.com
SUMMARY:DODGE COUNTY FAIRGROUNDS HWY 33 - BEAVER DAM\, WI
DESCRIPTION:GENERAL ADMISSION: $8.00  \n ** ALL VETERANS ARE FREE ** \nFRIDAY = OCTOBER 14TH  3:00PM – 8:00PM *  \nSATURDAY = OCTOBER 15TH: 8:00AM – 3:00PM \nCONTACT: TOM HEIN  \nPhone: (414) 430-7617 \nHELD AT DODGE COUNTY FAIRGROUNDS – HWY. 33 – BEAVER DAM\, WI. \nHOSTED BY FREEDOM FIREARMS LLC. \nVENDORS INTERESTED IN TABLES. PLEASE CALL  TOM 414-430-7617 \nALL ATF REULATIONS CURRENT AT THE TIME WILL BE APPLIED AND ENFORCED.
URL:https://concealcarrynow.com/event/dodge-county-fairgrounds-hwy-33-beaver-dam-wi/
CATEGORIES:Gun Shows
ATTACH;FMTTYPE=image/jpeg:https://concealcarrynow.com/wp-content/uploads/2022/05/DODGEOCT14GS.jpg
ORGANIZER;CN="Freedom Firearms":MAILTO:concealcarrynow@gmail.com
END:VEVENT
BEGIN:VEVENT
DTSTART;VALUE=DATE:20221007
DTEND;VALUE=DATE:20221009
DTSTAMP:20260420T104400
CREATED:20220601T190543Z
LAST-MODIFIED:20220601T190543Z
UID:10000281-1665100800-1665273599@concealcarrynow.com
SUMMARY:MUKWONAGO FIELD PARK CORNER OF ROCHESTER ST. & COUNTY RD. NN - MUKWONAGO
DESCRIPTION:ADMISSION: $8.00  ** ALL VETERANS ARE FREE ** \nHOURS: FRIDAY OCTOBER 7TH   3:00PM – 8:00PM * \n SATURDAY OCTOBER 8TH    8:00AM – 3:00PM \nCONTACT: TOM HEIN  \nPhone: (414) 430-7617 \nHELD AT MUKWONAGO FIELD PARK CORNER OF ROCHESTER ST. & COUNTY RD. NN – MUKWONAGO\, WI \nHOSTED BY FREEDOM FIREARMS LLC. \nVENDORS INTERESTED IN TABLES. PLEASE CALL  TOM 414-430-7617 \nALL ATF REULATIONS CURRENT AT THE TIME WILL BE APPLIED AND ENFORCED.
URL:https://concealcarrynow.com/event/mukwonago-field-park-corner-of-rochester-st-county-rd-nn-mukwonago/
CATEGORIES:Gun Shows
ORGANIZER;CN="Freedom Firearms":MAILTO:concealcarrynow@gmail.com
END:VEVENT
BEGIN:VEVENT
DTSTART;VALUE=DATE:20220930
DTEND;VALUE=DATE:20221002
DTSTAMP:20260420T104400
CREATED:20220406T011236Z
LAST-MODIFIED:20220506T151250Z
UID:10000258-1664496000-1664668799@concealcarrynow.com
SUMMARY:CIRCLE B - GUN SHOW *BUY-SELL-TRADE*
DESCRIPTION:GENERAL ADMISSION: $8.00  \n ** ALL VETERANS ARE FREE ** \nFRIDAY = SEPTEMBER 30TH: 3:00PM – 8:00PM *  \nSATURDAY = OCTOBER lst: 8:00AM – 3:00PM \nCONTACT: TOM HEIN  \nPhone: (414) 430-7617 \nHELD AT CIRCLE B RECREATION: 6261 HWY 60\, CEDABURG\, WI.  \nHOSTED BY FREEDOM FIREARMS LLC. \nVENDORS INTERESTED IN TABLES. PLEASE CALL  TOM 414-430-7617 \nALL ATF REULATIONS CURRENT AT THE TIME WILL BE APPLIED AND ENFORCED.
URL:https://concealcarrynow.com/event/cedarburg-gun-show/
LOCATION:Circle B Recreation\, 6261 Wisconsin 60 Trunk\, Cedarburg\, WI\, 53012\, United States
CATEGORIES:Gun Shows
ATTACH;FMTTYPE=image/jpeg:https://concealcarrynow.com/wp-content/uploads/2022/04/CEDARBURG-SEPT.jpg
ORGANIZER;CN="Freedom Firearms":MAILTO:concealcarrynow@gmail.com
END:VEVENT
BEGIN:VEVENT
DTSTART;VALUE=DATE:20220923
DTEND;VALUE=DATE:20220925
DTSTAMP:20260420T104400
CREATED:20220726T152623Z
LAST-MODIFIED:20220726T152623Z
UID:10000304-1663891200-1664063999@concealcarrynow.com
SUMMARY:AMERICAN SERB HALL 5101 W. OKLAHOMA AVE. - MILWAUKEE
DESCRIPTION:ADMISSION: $10.00  ** ALL VETERANS ARE FREE ** \nHOURS: SEPTEMBER 23RD – FRIDAY 3:00PM – 8:00PM *  \nSEPTEMBER 24TH – SATURDAY = 8:00AM – 3:00PM \nCONTACT: TOM HEIN  \nPhone: (414) 430-7617 or 414-333-4500 \nEMAIL:  CONCEALCARRYNOW@GMAIL.COM \nHELD AT AMERICAN SERB HALL 5101 W. OKLAHOMA AVE. – MILWAUKEE\, WI  \nHOSTED BY FREEDOM FIREARMS LLC. \nVENDORS INTERESTED IN TABLES. PLEASE CALL  TOM 414-430-7617 or 414-333-4500 \nALL ATF REULATIONS CURRENT AT THE TIME WILL BE APPLIED AND ENFORCED.
URL:https://concealcarrynow.com/event/american-serb-hall-5101-w-oklahoma-ave-milwaukee-2/
CATEGORIES:Gun Shows
ATTACH;FMTTYPE=image/jpeg:https://concealcarrynow.com/wp-content/uploads/2022/07/AMERICAN-GS.jpg
ORGANIZER;CN="Freedom Firearms":MAILTO:concealcarrynow@gmail.com
END:VEVENT
BEGIN:VEVENT
DTSTART;VALUE=DATE:20220826
DTEND;VALUE=DATE:20220828
DTSTAMP:20260420T104400
CREATED:20220506T001152Z
LAST-MODIFIED:20220506T184627Z
UID:10000271-1661472000-1661644799@concealcarrynow.com
SUMMARY:DOUSMAN COMMUNITY CENTER 235 N. MAIN ST. - DOUSMAN
DESCRIPTION:ADMISSION: $8.00  ** ALL VETERANS ARE FREE ** \nHOURS: FRIDAY AUGUST 26TH  3:00PM – 8:00PM * \n SATURDAY AUGUST 27TH  8:00AM – 3:00PM \nCONTACT: TOM HEIN  \nPhone: (414) 430-7617 \nHELD AT DOUSMAN COMMUNITY CENTER 235 N. MAIN ST. DOUSMAN\, WI  \nHOSTED BY FREEDOM FIREARMS LLC. \nVENDORS INTERESTED IN TABLES. PLEASE CALL  TOM 414-430-7617 \nALL ATF REULATIONS CURRENT AT THE TIME WILL BE APPLIED AND ENFORCED.
URL:https://concealcarrynow.com/event/dousman-community-center-235-n-main-st-dousman/
CATEGORIES:Gun Shows
ATTACH;FMTTYPE=image/jpeg:https://concealcarrynow.com/wp-content/uploads/2022/05/DOUSMANAUGUST.jpg
ORGANIZER;CN="Freedom Firearms":MAILTO:concealcarrynow@gmail.com
END:VEVENT
BEGIN:VEVENT
DTSTART;VALUE=DATE:20220520
DTEND;VALUE=DATE:20220522
DTSTAMP:20260420T104400
CREATED:20220406T011551Z
LAST-MODIFIED:20220408T230143Z
UID:10000259-1653004800-1653177599@concealcarrynow.com
SUMMARY:MUKWONAGO FIELD PARK GUN SHOW *BUY-SELL-TRADE*
DESCRIPTION:ADMISSION: $8.00  ** ALL VETERANS ARE FREE ** \nHOURS: FRIDAY MAY 20TH: 3:00PM – 8:00PM * SATURDAY MAY 21ST: 8:00AM – 3:00PM \nCONTACT: TOM HEIN  \nPhone: (414) 430-7617 \nHELD AT MUKWONAGO FIELD PARK:  ROCHESTER STREET & COUNTY NN: MUKWONAGO\, WI  \nHOSTED BY FREEDOM FIREARMS LLC. \nVENDORS INTERESTED IN TABLES. PLEASE CALL  TOM 414-430-7617 \nALL ATF REULATIONS CURRENT AT THE TIME WILL BE APPLIED AND ENFORCED.
URL:https://concealcarrynow.com/event/mukwonago-gun-show/
LOCATION:Mukwonago Field Park\, ROCHESTER STREET & COUNTY RD NN\, MUKWONAGO\, WI\, WI\, 53114\, United States
CATEGORIES:Gun Shows
ATTACH;FMTTYPE=image/jpeg:https://concealcarrynow.com/wp-content/uploads/2022/04/ANOWFIELDPARK5-20.jpg
ORGANIZER;CN="Freedom Firearms":MAILTO:concealcarrynow@gmail.com
END:VEVENT
END:VCALENDAR